BEGIN:VCALENDAR
VERSION:2.0
PRODID:-//La Belle Orange - Bureau d&#039;accompagnement d&#039;artistes - ECPv6.15.20//NONSGML v1.0//EN
CALSCALE:GREGORIAN
METHOD:PUBLISH
X-WR-CALNAME:La Belle Orange - Bureau d&#039;accompagnement d&#039;artistes
X-ORIGINAL-URL:https://labelleorange.fr
X-WR-CALDESC:Évènements pour La Belle Orange - Bureau d&#039;accompagnement d&#039;artistes
REFRESH-INTERVAL;VALUE=DURATION:PT1H
X-Robots-Tag:noindex
X-PUBLISHED-TTL:PT1H
BEGIN:VTIMEZONE
TZID:Europe/Paris
BEGIN:DAYLIGHT
TZOFFSETFROM:+0100
TZOFFSETTO:+0200
TZNAME:CEST
DTSTART:20160327T010000
END:DAYLIGHT
BEGIN:STANDARD
TZOFFSETFROM:+0200
TZOFFSETTO:+0100
TZNAME:CET
DTSTART:20161030T010000
END:STANDARD
BEGIN:DAYLIGHT
TZOFFSETFROM:+0100
TZOFFSETTO:+0200
TZNAME:CEST
DTSTART:20170326T010000
END:DAYLIGHT
BEGIN:STANDARD
TZOFFSETFROM:+0200
TZOFFSETTO:+0100
TZNAME:CET
DTSTART:20171029T010000
END:STANDARD
BEGIN:DAYLIGHT
TZOFFSETFROM:+0100
TZOFFSETTO:+0200
TZNAME:CEST
DTSTART:20180325T010000
END:DAYLIGHT
BEGIN:STANDARD
TZOFFSETFROM:+0200
TZOFFSETTO:+0100
TZNAME:CET
DTSTART:20181028T010000
END:STANDARD
BEGIN:DAYLIGHT
TZOFFSETFROM:+0100
TZOFFSETTO:+0200
TZNAME:CEST
DTSTART:20190331T010000
END:DAYLIGHT
BEGIN:STANDARD
TZOFFSETFROM:+0200
TZOFFSETTO:+0100
TZNAME:CET
DTSTART:20191027T010000
END:STANDARD
BEGIN:DAYLIGHT
TZOFFSETFROM:+0100
TZOFFSETTO:+0200
TZNAME:CEST
DTSTART:20200329T010000
END:DAYLIGHT
BEGIN:STANDARD
TZOFFSETFROM:+0200
TZOFFSETTO:+0100
TZNAME:CET
DTSTART:20201025T010000
END:STANDARD
BEGIN:DAYLIGHT
TZOFFSETFROM:+0100
TZOFFSETTO:+0200
TZNAME:CEST
DTSTART:20210328T010000
END:DAYLIGHT
BEGIN:STANDARD
TZOFFSETFROM:+0200
TZOFFSETTO:+0100
TZNAME:CET
DTSTART:20211031T010000
END:STANDARD
BEGIN:DAYLIGHT
TZOFFSETFROM:+0100
TZOFFSETTO:+0200
TZNAME:CEST
DTSTART:20220327T010000
END:DAYLIGHT
BEGIN:STANDARD
TZOFFSETFROM:+0200
TZOFFSETTO:+0100
TZNAME:CET
DTSTART:20221030T010000
END:STANDARD
END:VTIMEZONE
BEGIN:VEVENT
DTSTART;TZID=Europe/Paris:20211002T200000
DTEND;TZID=Europe/Paris:20211002T210000
DTSTAMP:20260421T144927
CREATED:20210721T145213Z
LAST-MODIFIED:20210721T145213Z
UID:10182-1633204800-1633208400@labelleorange.fr
SUMMARY:Tablao Flamenco\, Al Compas de Jerez – La Cecilia [social_warfare]
DESCRIPTION:
URL:https://labelleorange.fr/evenement/tablao-flamenco-al-compas-de-jerez-la-cecilia-social_warfare-13/
LOCATION:Salle Ockeghem\, 15 Place de Châteauneuf\, Tours\, 37000
ORGANIZER;CN="Al Compas de Jerez":MAILTO:alcompasdejerez@gmail.com
END:VEVENT
BEGIN:VEVENT
DTSTART;TZID=Europe/Paris:20210327T200000
DTEND;TZID=Europe/Paris:20210327T210000
DTSTAMP:20260421T144927
CREATED:20200925T121808Z
LAST-MODIFIED:20200925T121808Z
UID:9709-1616875200-1616878800@labelleorange.fr
SUMMARY:Tablae Flamenco\, Al Compas de Jerez – La Cecilia [social_warfare]
DESCRIPTION:
URL:https://labelleorange.fr/evenement/tablae-flamenco-al-compas-de-jerez-la-cecilia-social_warfare/
LOCATION:Ville de Véretz\, Véretz\, 37270\, France
ORGANIZER;CN="Ville de V%C3%A9retz":MAILTO:culture@ville-chateau-renault.fr
END:VEVENT
BEGIN:VEVENT
DTSTART;TZID=Europe/Paris:20210313T203000
DTEND;TZID=Europe/Paris:20210313T220000
DTSTAMP:20260421T144927
CREATED:20200925T121438Z
LAST-MODIFIED:20200925T121523Z
UID:9705-1615667400-1615672800@labelleorange.fr
SUMMARY:Al Compas de mi Tierra\, Al Compas de Jerez – La Cecilia [social_warfare]
DESCRIPTION:
URL:https://labelleorange.fr/evenement/al-compas-de-mi-tierra-al-compas-de-jerez-la-cecilia-social_warfare-3/
LOCATION:La Tannerie\, Place Gaston Bardet\, Château-Renault\, 37110\, France
END:VEVENT
BEGIN:VEVENT
DTSTART;TZID=Europe/Paris:20200418T200000
DTEND;TZID=Europe/Paris:20200418T210000
DTSTAMP:20260421T144927
CREATED:20190301T161515Z
LAST-MODIFIED:20190301T161515Z
UID:9288-1587240000-1587243600@labelleorange.fr
SUMMARY:Al Compas de mi Tierra\, Al Compas de Jerez – La Cecilia [social_warfare]
DESCRIPTION:
URL:https://labelleorange.fr/evenement/al-compas-de-mi-tierra-al-compas-de-jerez-la-cecilia-social_warfare-2/
LOCATION:Ville de Château-Renault\, Château-Renault\, 37110\, France
END:VEVENT
BEGIN:VEVENT
DTSTART;TZID=Europe/Paris:20200326T203000
DTEND;TZID=Europe/Paris:20200326T220000
DTSTAMP:20260421T144927
CREATED:20200228T152435Z
LAST-MODIFIED:20200228T153019Z
UID:9578-1585254600-1585260000@labelleorange.fr
SUMMARY:Tablao Flamenco\, Al Compas de Jerez – La Cecilia [social_warfare]
DESCRIPTION:
URL:https://labelleorange.fr/evenement/tablao-flamenco-al-compas-de-jerez-la-cecilia-social_warfare-12/
LOCATION:Salle Ockeghem\, 15 Place de Châteauneuf\, Tours\, 37000
ORGANIZER;CN="Al Compas de Jerez":MAILTO:alcompasdejerez@gmail.com
END:VEVENT
BEGIN:VEVENT
DTSTART;TZID=Europe/Paris:20200123T200000
DTEND;TZID=Europe/Paris:20200123T213000
DTSTAMP:20260421T144927
CREATED:20191121T155049Z
LAST-MODIFIED:20191121T155049Z
UID:9521-1579809600-1579815000@labelleorange.fr
SUMMARY:Trio Jazz Cappozzo - Cécile Cappozzo [social_warfare]
DESCRIPTION:
URL:https://labelleorange.fr/evenement/trio-jazz-cappozzo-cecile-cappozzo-social_warfare-2/
LOCATION:Le Périscope\, 13 rue Delandine\, Lyon\, 69002\, France
ORGANIZER;CN="Le P%C3%A9riscope":MAILTO:periscope.lyon@gmail.com
END:VEVENT
BEGIN:VEVENT
DTSTART;TZID=Europe/Paris:20191205T200000
DTEND;TZID=Europe/Paris:20191205T210000
DTSTAMP:20260421T144927
CREATED:20190416T134113Z
LAST-MODIFIED:20190416T134113Z
UID:9337-1575576000-1575579600@labelleorange.fr
SUMMARY:Trio Jazz Cappozzo - Cécile Cappozzo [social_warfare]
DESCRIPTION:
URL:https://labelleorange.fr/evenement/trio-jazz-cappozzo-cecile-cappozzo-social_warfare/
LOCATION:AJMi Jazz Club\, 4 rue des escaliers Sainte-Anne\, Avignon\, 84000\, France
ORGANIZER;CN="AJMi":MAILTO:info@jazzalajmi.com
END:VEVENT
BEGIN:VEVENT
DTSTART;TZID=Europe/Paris:20191006T180000
DTEND;TZID=Europe/Paris:20191006T190000
DTSTAMP:20260421T144927
CREATED:20190726T134252Z
LAST-MODIFIED:20190726T134252Z
UID:9417-1570384800-1570388400@labelleorange.fr
SUMMARY:Tablao Flamenco\, Al Compas de Jerez – La Cecilia [social_warfare]
DESCRIPTION:
URL:https://labelleorange.fr/evenement/tablao-flamenco-al-compas-de-jerez-la-cecilia-social_warfare-10/
LOCATION:Orléans\, Orléans\, 45100
END:VEVENT
BEGIN:VEVENT
DTSTART;TZID=Europe/Paris:20191004T190000
DTEND;TZID=Europe/Paris:20191004T213000
DTSTAMP:20260421T144927
CREATED:20190726T134122Z
LAST-MODIFIED:20190726T134122Z
UID:9415-1570215600-1570224600@labelleorange.fr
SUMMARY:Tablao Flamenco\, Al Compas de Jerez – La Cecilia [social_warfare]
DESCRIPTION:
URL:https://labelleorange.fr/evenement/tablao-flamenco-al-compas-de-jerez-la-cecilia-social_warfare-9/
LOCATION:Salle Ockeghem\, 15 Place de Châteauneuf\, Tours\, 37000
ORGANIZER;CN="Al Compas de Jerez":MAILTO:alcompasdejerez@gmail.com
END:VEVENT
BEGIN:VEVENT
DTSTART;TZID=Europe/Paris:20190914T190000
DTEND;TZID=Europe/Paris:20190914T190000
DTSTAMP:20260421T144927
CREATED:20190726T133943Z
LAST-MODIFIED:20190726T133943Z
UID:9411-1568487600-1568487600@labelleorange.fr
SUMMARY:Tablao Flamenco\, Al Compas de Jerez – La Cecilia [social_warfare]
DESCRIPTION:
URL:https://labelleorange.fr/evenement/tablao-flamenco-al-compas-de-jerez-la-cecilia-social_warfare-8/
LOCATION:Ligueil\, Ligueil\, 37240
END:VEVENT
BEGIN:VEVENT
DTSTART;TZID=Europe/Paris:20190621T160000
DTEND;TZID=Europe/Paris:20190623T223000
DTSTAMP:20260421T144927
CREATED:20181123T115253Z
LAST-MODIFIED:20181123T115253Z
UID:8457-1561132800-1561329000@labelleorange.fr
SUMMARY:Tablao Flamenco - La Cecilia - Festival Flamenco en Loire [social_warfare]
DESCRIPTION:
URL:https://labelleorange.fr/evenement/tablao-flamenco-la-cecilia-festival-flamenco-en-loire-social_warfare/
LOCATION:Le Thoureil\, 49350
END:VEVENT
BEGIN:VEVENT
DTSTART;TZID=Europe/Paris:20190601T190000
DTEND;TZID=Europe/Paris:20190601T203000
DTSTAMP:20260421T144927
CREATED:20180830T132432Z
LAST-MODIFIED:20180830T132432Z
UID:7489-1559415600-1559421000@labelleorange.fr
SUMMARY:Tablao Flamenco\, Al Compas de Jerez – La Cecilia [social_warfare]
DESCRIPTION:
URL:https://labelleorange.fr/evenement/tablao-flamenco-al-compas-de-jerez-la-cecilia-social_warfare-7/
LOCATION:Ville d’Aubigny-sur-Nère\, Aubigny-sur-Nère\, 18700\, France
ORGANIZER;CN="Ville d'Aubigny-sur-N%C3%A8re":MAILTO:mairie@aubigny-sur-nere.fr
END:VEVENT
BEGIN:VEVENT
DTSTART;TZID=Europe/Paris:20190531T200000
DTEND;TZID=Europe/Paris:20190531T200000
DTSTAMP:20260421T144927
CREATED:20181123T114736Z
LAST-MODIFIED:20181123T114736Z
UID:8455-1559332800-1559332800@labelleorange.fr
SUMMARY:Tablao Flamenco - La Cecilia [social_warfare]
DESCRIPTION:
URL:https://labelleorange.fr/evenement/tablao-flamenco-la-cecilia-social_warfare-3/
LOCATION:Ville d’Aubigny-sur-Nère\, Aubigny-sur-Nère\, 18700\, France
END:VEVENT
BEGIN:VEVENT
DTSTART;TZID=Europe/Paris:20190527T200000
DTEND;TZID=Europe/Paris:20190527T210000
DTSTAMP:20260421T144927
CREATED:20190218T103949Z
LAST-MODIFIED:20190218T103949Z
UID:9244-1558987200-1558990800@labelleorange.fr
SUMMARY:Al Compas de mi Tierra\, Al Compas de Jerez – La Cecilia [social_warfare]
DESCRIPTION:
URL:https://labelleorange.fr/evenement/al-compas-de-mi-tierra-al-compas-de-jerez-la-cecilia-social_warfare/
LOCATION:La Parenthèse\, 14 Boulevard Léo Lagrange\, Ballan-Miré\, 37510\, France
END:VEVENT
BEGIN:VEVENT
DTSTART;TZID=Europe/Paris:20190525T203000
DTEND;TZID=Europe/Paris:20190525T220000
DTSTAMP:20260421T144927
CREATED:20180830T131954Z
LAST-MODIFIED:20190523T084351Z
UID:7485-1558816200-1558821600@labelleorange.fr
SUMMARY:Tablao Flamenco\, Al Compas de Jerez – La Cecilia [social_warfare]
DESCRIPTION:
URL:https://labelleorange.fr/evenement/tablao-flamenco-al-compas-de-jerez-la-cecilia-social_warfare-6/
LOCATION:Moncé en Belin
END:VEVENT
BEGIN:VEVENT
DTSTART;TZID=Europe/Paris:20190427T200000
DTEND;TZID=Europe/Paris:20190427T230000
DTSTAMP:20260421T144927
CREATED:20180202T102322Z
LAST-MODIFIED:20180702T155949Z
UID:6438-1556395200-1556406000@labelleorange.fr
SUMMARY:Sabor Flamenco\, Al Compas de Jerez – La Cecilia [social_warfare]
DESCRIPTION:
URL:https://labelleorange.fr/evenement/sabor-flamenco-al-compas-de-jerez-cecilia-social_warfare/
LOCATION:Salle Yves Renault\, 4 Rue Jean Perrin\, Chambray-lès-Tours\, 37170\, France
END:VEVENT
BEGIN:VEVENT
DTSTART;TZID=Europe/Paris:20190323T200000
DTEND;TZID=Europe/Paris:20190323T200000
DTSTAMP:20260421T144927
CREATED:20181123T114026Z
LAST-MODIFIED:20181123T114026Z
UID:8450-1553371200-1553371200@labelleorange.fr
SUMMARY:Tablao Flamenco - La Cecilia [social_warfare]
DESCRIPTION:
URL:https://labelleorange.fr/evenement/tablao-flamenco-la-cecilia-social_warfare-2/
LOCATION:Grenoble\, 38000
END:VEVENT
BEGIN:VEVENT
DTSTART;TZID=Europe/Paris:20190322T200000
DTEND;TZID=Europe/Paris:20190322T200000
DTSTAMP:20260421T144927
CREATED:20181123T113609Z
LAST-MODIFIED:20181123T113609Z
UID:8447-1553284800-1553284800@labelleorange.fr
SUMMARY:Tablao Flamenco - La Cecilia [social_warfare]
DESCRIPTION:
URL:https://labelleorange.fr/evenement/tablao-flamenco-la-cecilia-social_warfare/
LOCATION:St Hilaire de Brens\, 38 460
END:VEVENT
BEGIN:VEVENT
DTSTART;TZID=Europe/Paris:20190208T200000
DTEND;TZID=Europe/Paris:20190208T213000
DTSTAMP:20260421T144927
CREATED:20180830T131034Z
LAST-MODIFIED:20180830T131034Z
UID:7483-1549656000-1549661400@labelleorange.fr
SUMMARY:Tablao Flamenco\, Al Compas de Jerez - La Cecilia [social_warfare]
DESCRIPTION:
URL:https://labelleorange.fr/evenement/tablao-flamenco-al-compas-de-jerez-la-cecilia-social_warfare-5/
LOCATION:Salle Ockeghem\, 15 Place de Châteauneuf\, Tours\, 37000
ORGANIZER;CN="Al Compas de Jerez":MAILTO:alcompasdejerez@gmail.com
END:VEVENT
BEGIN:VEVENT
DTSTART;TZID=Europe/Paris:20181204T200000
DTEND;TZID=Europe/Paris:20181204T220000
DTSTAMP:20260421T144927
CREATED:20180111T082225Z
LAST-MODIFIED:20180131T121906Z
UID:6222-1543953600-1543960800@labelleorange.fr
SUMMARY:Soirée trios La Belle Orange - Trio RRR & Trio Cappozzo [social_warfare]
DESCRIPTION:
URL:https://labelleorange.fr/evenement/soiree-trios-belle-orange-trio-rrr-trio-cappozzo-social_warfare/
LOCATION:Le petit faucheux\, 12 Rue Léonard de Vinci\, Tours\, 37000
END:VEVENT
BEGIN:VEVENT
DTSTART;TZID=Europe/Paris:20181103T200000
DTEND;TZID=Europe/Paris:20181103T213000
DTSTAMP:20260421T144927
CREATED:20180830T130503Z
LAST-MODIFIED:20180830T130503Z
UID:7480-1541275200-1541280600@labelleorange.fr
SUMMARY:Tablao Flamenco\, Al Compas de Jerez - La Cecilia [social_warfare]
DESCRIPTION:
URL:https://labelleorange.fr/evenement/tablao-flamenco-al-compas-de-jerez-la-cecilia-social_warfare-4/
END:VEVENT
BEGIN:VEVENT
DTSTART;TZID=Europe/Paris:20181020T200000
DTEND;TZID=Europe/Paris:20181020T213000
DTSTAMP:20260421T144927
CREATED:20180830T125811Z
LAST-MODIFIED:20180830T125811Z
UID:7477-1540065600-1540071000@labelleorange.fr
SUMMARY:Tablao Flamenco\, Al Compas de Jerez - La Cecilia [social_warfare]
DESCRIPTION:
URL:https://labelleorange.fr/evenement/tablao-flamenco-al-compas-de-jerez-la-cecilia-social_warfare-3/
LOCATION:Case de Espana\, 14 avenue Pierre Bérégovoy\, Bourges\, 18000\, France
END:VEVENT
BEGIN:VEVENT
DTSTART;TZID=Europe/Paris:20181012T200000
DTEND;TZID=Europe/Paris:20181012T210000
DTSTAMP:20260421T144927
CREATED:20180830T124938Z
LAST-MODIFIED:20180830T124938Z
UID:7475-1539374400-1539378000@labelleorange.fr
SUMMARY:Tablao Flamenco\, Al Compas de Jerez - La Cecilia [social_warfare]
DESCRIPTION:
URL:https://labelleorange.fr/evenement/tablao-flamenco-al-compas-de-jerez-la-cecilia-social_warfare-2/
LOCATION:Salle Ockeghem\, 15 Place de Châteauneuf\, Tours\, 37000
ORGANIZER;CN="Al Compas de Jerez":MAILTO:alcompasdejerez@gmail.com
END:VEVENT
BEGIN:VEVENT
DTSTART;TZID=Europe/Paris:20181011T200000
DTEND;TZID=Europe/Paris:20181011T210000
DTSTAMP:20260421T144927
CREATED:20180830T124720Z
LAST-MODIFIED:20180830T124720Z
UID:7470-1539288000-1539291600@labelleorange.fr
SUMMARY:Tablao Flamenco\, Al Compas de Jerez - La Cecilia [social_warfare]
DESCRIPTION:
URL:https://labelleorange.fr/evenement/tablao-flamenco-al-compas-de-jerez-la-cecilia-social_warfare/
LOCATION:Théâtre du Rossignolet\, 19 Rue du Rossignolet\, Loches\, 37600\, France
END:VEVENT
BEGIN:VEVENT
DTSTART;TZID=Europe/Paris:20180721T210000
DTEND;TZID=Europe/Paris:20180721T220000
DTSTAMP:20260421T144927
CREATED:20180131T120803Z
LAST-MODIFIED:20180619T133444Z
UID:6378-1532206800-1532210400@labelleorange.fr
SUMMARY:Tablao Flamenco\, Al Compas de Jerez - La Cecilia [social_warfare]
DESCRIPTION:Dans le cadre du festival Des Lyres d’été
URL:https://labelleorange.fr/evenement/tablao-flamenco-al-compas-de-jerez-cecilia-social_warfare/
LOCATION:Ville de Blois\, Blois\, 41000
END:VEVENT
BEGIN:VEVENT
DTSTART;TZID=Europe/Paris:20180519T200000
DTEND;TZID=Europe/Paris:20180519T210000
DTSTAMP:20260421T144927
CREATED:20180223T111807Z
LAST-MODIFIED:20180223T111807Z
UID:6613-1526760000-1526763600@labelleorange.fr
SUMMARY:Al Compas de mi Tierra\, Al Compas de Jerez – La Cecilia [social_warfare]
DESCRIPTION:
URL:https://labelleorange.fr/evenement/al-compas-de-mi-tierra-al-compas-de-jerez-cecilia-social_warfare-2/
LOCATION:Maison de Bégon\, rue Pierre et Marie Curie\, Blois\, 41000\, France
ORGANIZER;CN="Maison de B%C3%A9gon":MAILTO:contact@maisondebegon.com
END:VEVENT
BEGIN:VEVENT
DTSTART;TZID=Europe/Paris:20180323T203000
DTEND;TZID=Europe/Paris:20180323T213000
DTSTAMP:20260421T144927
CREATED:20180223T112557Z
LAST-MODIFIED:20180223T112557Z
UID:6618-1521837000-1521840600@labelleorange.fr
SUMMARY:Tablao Flamenco\, Al Compas de Jerez – La Cecilia [social_warfare]
DESCRIPTION:
URL:https://labelleorange.fr/evenement/tablao-flamenco-al-compas-de-jerez-cecilia-social_warfare-2/
LOCATION:Salle Ockeghem\, 15 Place de Châteauneuf\, Tours\, 37000
ORGANIZER;CN="Al Compas de Jerez":MAILTO:alcompasdejerez@gmail.com
END:VEVENT
BEGIN:VEVENT
DTSTART;TZID=Europe/Paris:20171014T200000
DTEND;TZID=Europe/Paris:20171014T210000
DTSTAMP:20260421T144927
CREATED:20170602T163605Z
LAST-MODIFIED:20170606T145756Z
UID:4011-1508011200-1508014800@labelleorange.fr
SUMMARY:La Cecilia y su Gente - Cécile Cappozo [social_warfare]
DESCRIPTION:
URL:https://labelleorange.fr/evenement/cecilia-y-su-gente-cecile-cappozo-social_warfare/
LOCATION:Espace Culturel Les Quatre Vents\, Les Blourdiers\, Rouziers-de-Touraine\, 37360\, France Métropolitaine
END:VEVENT
BEGIN:VEVENT
DTSTART;TZID=Europe/Paris:20171007T190000
DTEND;TZID=Europe/Paris:20171007T200000
DTSTAMP:20260421T144927
CREATED:20170602T163209Z
LAST-MODIFIED:20170606T145822Z
UID:4007-1507402800-1507406400@labelleorange.fr
SUMMARY:La Cecilia y su Gente - Cécile Cappozzo [social_warfare]
DESCRIPTION:
URL:https://labelleorange.fr/evenement/cecilia-y-su-gente-cecile-cappozzo/
LOCATION:Salle des fêtes de Mesland\, Mesland\, France Métropolitaine
END:VEVENT
BEGIN:VEVENT
DTSTART;VALUE=DATE:20170804
DTEND;VALUE=DATE:20170806
DTSTAMP:20260421T144927
CREATED:20170602T160400Z
LAST-MODIFIED:20170606T150258Z
UID:4002-1501804800-1501977599@labelleorange.fr
SUMMARY:La Cecilia y su Gente - Cécile Cappozzo [social_warfare]
DESCRIPTION:Dans le cadre du Festival Flamenco Pourpre
URL:https://labelleorange.fr/evenement/cecilia-y-su-gente-cecile-cappozzo-social_warfare-2/
LOCATION:Bergerac\, Bergerac\, 24100\, France Métropolitaine
END:VEVENT
END:VCALENDAR