BEGIN:VCALENDAR
VERSION:2.0
PRODID:-//La Belle Orange - Bureau d&#039;accompagnement d&#039;artistes - ECPv6.15.20//NONSGML v1.0//EN
CALSCALE:GREGORIAN
METHOD:PUBLISH
X-ORIGINAL-URL:https://labelleorange.fr
X-WR-CALDESC:Évènements pour La Belle Orange - Bureau d&#039;accompagnement d&#039;artistes
REFRESH-INTERVAL;VALUE=DURATION:PT1H
X-Robots-Tag:noindex
X-PUBLISHED-TTL:PT1H
BEGIN:VTIMEZONE
TZID:Europe/Paris
BEGIN:DAYLIGHT
TZOFFSETFROM:+0100
TZOFFSETTO:+0200
TZNAME:CEST
DTSTART:20150329T010000
END:DAYLIGHT
BEGIN:STANDARD
TZOFFSETFROM:+0200
TZOFFSETTO:+0100
TZNAME:CET
DTSTART:20151025T010000
END:STANDARD
BEGIN:DAYLIGHT
TZOFFSETFROM:+0100
TZOFFSETTO:+0200
TZNAME:CEST
DTSTART:20160327T010000
END:DAYLIGHT
BEGIN:STANDARD
TZOFFSETFROM:+0200
TZOFFSETTO:+0100
TZNAME:CET
DTSTART:20161030T010000
END:STANDARD
BEGIN:DAYLIGHT
TZOFFSETFROM:+0100
TZOFFSETTO:+0200
TZNAME:CEST
DTSTART:20170326T010000
END:DAYLIGHT
BEGIN:STANDARD
TZOFFSETFROM:+0200
TZOFFSETTO:+0100
TZNAME:CET
DTSTART:20171029T010000
END:STANDARD
BEGIN:DAYLIGHT
TZOFFSETFROM:+0100
TZOFFSETTO:+0200
TZNAME:CEST
DTSTART:20180325T010000
END:DAYLIGHT
BEGIN:STANDARD
TZOFFSETFROM:+0200
TZOFFSETTO:+0100
TZNAME:CET
DTSTART:20181028T010000
END:STANDARD
END:VTIMEZONE
BEGIN:VEVENT
DTSTART;VALUE=DATE:20171215
DTEND;VALUE=DATE:20171216
DTSTAMP:20260421T225141
CREATED:20160422T082908Z
LAST-MODIFIED:20170606T145532Z
UID:894-1513296000-1513382399@labelleorange.fr
SUMMARY:La Nuit Manquante III - Hélène Rocheteau [social_warfare]
DESCRIPTION:
URL:https://labelleorange.fr/evenement/nuit-manquante-3-helene-rocheteau/
LOCATION:EMMETROP\, Friche culturelle L’antre-peaux 26 route de la Chapelle\, BOURGES\, 18000 
END:VEVENT
BEGIN:VEVENT
DTSTART;VALUE=DATE:20171120
DTEND;VALUE=DATE:20171121
DTSTAMP:20260421T225141
CREATED:20170825T154251Z
LAST-MODIFIED:20170825T154251Z
UID:4671-1511136000-1511222399@labelleorange.fr
SUMMARY:BLAST – Hélène Rocheteau [social_warfare]
DESCRIPTION:Représentation scolaire dans le cadre d’une résidence-mission danse en collège
URL:https://labelleorange.fr/evenement/blast-helene-rocheteau-social_warfare/
LOCATION:Collège Pierre de Ronsard\, 2 Rue de Fontenelles\, Bourgueil\, 37140\, France Métropolitaine
END:VEVENT
BEGIN:VEVENT
DTSTART;TZID=Europe/Paris:20171010T140000
DTEND;TZID=Europe/Paris:20171010T150000
DTSTAMP:20260421T225141
CREATED:20170825T154936Z
LAST-MODIFIED:20170825T154936Z
UID:4674-1507644000-1507647600@labelleorange.fr
SUMMARY:La Nuit Manquante III – Hélène Rocheteau [social_warfare]
DESCRIPTION:Dans le cadre du Chantier mobile #3 des Danse(s) en chantier
URL:https://labelleorange.fr/evenement/nuit-manquante-iii-helene-rocheteau-social_warfare/
LOCATION:Point Éphémère\, 200 Quai de Valmy\, Paris\, 75010\, France Métropolitaine
ORGANIZER;CN="Journ%C3%A9es Danse Dense":MAILTO:contacts@dansedense.fr
END:VEVENT
BEGIN:VEVENT
DTSTART;TZID=Europe/Paris:20170929T190000
DTEND;TZID=Europe/Paris:20170929T200000
DTSTAMP:20260421T225141
CREATED:20170210T093823Z
LAST-MODIFIED:20170606T145844Z
UID:2449-1506711600-1506715200@labelleorange.fr
SUMMARY:La Nuit Manquante III - Hélène Rocheteau [social_warfare]
DESCRIPTION:Heure Curieuse (sortie de résidence publique) organisée par le CCN de Tours
URL:https://labelleorange.fr/evenement/nuit-manquante-iii-helene-rocheteau-2/
LOCATION:CCN de Tours\, 47 rue du Sergent Leclerc\, Tours\, 37000\, France Métropolitaine
ORGANIZER;CN="CCN de Tours":MAILTO:billetterie@ccntours.com
END:VEVENT
BEGIN:VEVENT
DTSTART;TZID=Europe/Paris:20161022T200000
DTEND;TZID=Europe/Paris:20161022T210000
DTSTAMP:20260421T225141
CREATED:20160527T153150Z
LAST-MODIFIED:20160527T153150Z
UID:1004-1477166400-1477170000@labelleorange.fr
SUMMARY:Performance - Hélène Rocheteau
DESCRIPTION:Soirée proposée en partenariat avec Le Cargo (Lille).
URL:https://labelleorange.fr/evenement/performance-cecilia-ribault/
LOCATION:CCN de Caen\, Halle aux Granges\, 11-13 rue du Carel\, Caen\, 14054\, France Métropolitaine
END:VEVENT
BEGIN:VEVENT
DTSTART;TZID=Europe/Paris:20160924T193000
DTEND;TZID=Europe/Paris:20160924T203000
DTSTAMP:20260421T225141
CREATED:20160524T160805Z
LAST-MODIFIED:20160524T160805Z
UID:986-1474745400-1474749000@labelleorange.fr
SUMMARY:La Nuit Manquante 2 - Hélène Rocheteau
DESCRIPTION:Dans le cadre de la Biennale off du Croiseur
URL:https://labelleorange.fr/evenement/nuit-manquante-2-helene-rocheteau/
LOCATION:Le Croiseur\, 4 rue Croix Barret\, Lyon\, 69007\, France Métropolitaine
ORGANIZER;CN="Le Croiseur":MAILTO:contact@lecroiseur.fr
END:VEVENT
BEGIN:VEVENT
DTSTART;TZID=Europe/Paris:20160917T190000
DTEND;TZID=Europe/Paris:20160917T200000
DTSTAMP:20260421T225141
CREATED:20160502T154057Z
LAST-MODIFIED:20160901T131407Z
UID:947-1474138800-1474142400@labelleorange.fr
SUMMARY:BLAST - Hélène Rocheteau
DESCRIPTION:Dans le cadre du Festival Hop Pop Hop
URL:https://labelleorange.fr/evenement/blast-helene-rocheteau/
LOCATION:CCN Orléans\, 37 rue du Bourdon Blanc\, Orléans\, 45000
ORGANIZER;CN="L'Astrolable":MAILTO:info@lastrolabe.org
END:VEVENT
BEGIN:VEVENT
DTSTART;TZID=Europe/Paris:20160405T210000
DTEND;TZID=Europe/Paris:20160405T223000
DTSTAMP:20260421T225141
CREATED:20160224T104217Z
LAST-MODIFIED:20160317T102310Z
UID:843-1459890000-1459895400@labelleorange.fr
SUMMARY:La Nuit Manquante #1 & #2
DESCRIPTION:
URL:https://labelleorange.fr/evenement/la-nuit-manquante-1-2/
LOCATION:EMMETROP\, Friche culturelle L’antre-peaux 26 route de la Chapelle\, BOURGES\, 18000 
END:VEVENT
BEGIN:VEVENT
DTSTART;TZID=Europe/Paris:20160117T170000
DTEND;TZID=Europe/Paris:20160117T183000
DTSTAMP:20260421T225141
CREATED:20151218T092019Z
LAST-MODIFIED:20160104T094006Z
UID:754-1453050000-1453055400@labelleorange.fr
SUMMARY:La Nuit Manquante #1 #2 - Hélène Rocheteau
DESCRIPTION:Festival Ecoute/Voir
URL:https://labelleorange.fr/evenement/la-nuit-manquante-1-2-helene-rocheteau/
LOCATION:Le petit faucheux\, 12 Rue Léonard de Vinci\, Tours\, 37000
END:VEVENT
END:VCALENDAR